BEGIN:VCALENDAR
VERSION:2.0
PRODID:-//https://www.buckscollegegroup.ac.uk///NONSGML kigkonsult.se iCalcreator 2.10.15//
METHOD:PUBLISH
BEGIN:VEVENT
UID:20260423T145125UTC-48392xvtV7@https://www.buckscollegegroup.ac.uk/
DTSTAMP:20260423T145125Z
DESCRIPTION:Looking for adult courses in Buckinghamshire or thinking about 
 a career change? Join our Adult Skills &amp\; Careers Fair to explore flex
 ible learning options and current job opportunities all in one place.\nWhe
 ther you want to upskill\, retrain\, or start a new career\, this event wi
 ll help you take the next step.\nRegister now\n\nWhat is the Adult Skills 
 &amp\; Careers Fair?\nThe Adult Skills &amp\; Careers Fair is a free event
  designed for adults who want to:\n\nGain new skills or qualifications\nCh
 ange careers or progress in their current role\nExplore job opportunities 
 in education and support services\n\nYou’ll be able to speak directly with
  tutors and staff\, get expert advice and find the right path for your fut
 ure.\n\nWhat can I expect at the event?\nAt the event\, you can:\n\nExplor
 e adult courses in Aylesbury\, Wycombe and Amersham across a range of subj
 ects\nSpeak to tutors about course content\, entry requirements and progre
 ssion\nLearn about flexible study options designed around work and family 
 life\nDiscover current job vacancies at Buckinghamshire College Group\nFin
 d out how to start a career in Further Education\, including teaching and 
 business support roles\n\n\nAdult courses available\nWe offer a wide range
  of adult learning courses in Buckinghamshire\, including:\n\nAccounting\n
 Art &amp\; Design\nConstruction Trades &amp\; Services\nCounselling\nHealt
 h and Social Care\nHuman Resources\nMaths &amp\; English\nMedia Prodcution
  and Special Effects&nbsp\;\nRenewable Technologies\nSocial Media\nTeacher
  Training\n\nOur courses are designed to help you gain in-demand skills\, 
 improve your career prospects and achieve your goals.\n\nLooking for jobs 
 in Buckinghamshire?\nIf you’re searching for jobs in Aylesbury\, Wycombe o
 r Amersham\, this event is a great opportunity to:\n\nExplore live vacanci
 es at the College\nLearn about careers in teaching\, student support and b
 usiness services\nSpeak to our team about working in Further Education\n\n
 \nBook your place\nReady to take the next step?\nSecure your place at our 
 Adult Skills &amp\; Careers Fair in Aylesbury and start planning your futu
 re today.\nBook your free place now https://www.buckscollegegroup.ac.uk/ev
 ents/event/13-adult-skills-and-careers-fair
DTSTART:20260505T173000Z
DTEND:20260505T193000Z
LOCATION:Aylesbury (Oxford Road\, Aylesbury\, Buckinghamshire \, HP21 8PD)
SUMMARY:Adult Skills and Careers Fair
URL:https://www.buckscollegegroup.ac.uk/events/event/13-adult-skills-and-ca
 reers-fair
END:VEVENT
END:VCALENDAR
